BEGIN:VCALENDAR
VERSION:2.0
PRODID:-//Hunslet Club - ECPv6.15.14//NONSGML v1.0//EN
CALSCALE:GREGORIAN
METHOD:PUBLISH
X-WR-CALNAME:Hunslet Club
X-ORIGINAL-URL:https://www.hunsletclub.org.uk
X-WR-CALDESC:Events for Hunslet Club
REFRESH-INTERVAL;VALUE=DURATION:PT1H
X-Robots-Tag:noindex
X-PUBLISHED-TTL:PT1H
BEGIN:VTIMEZONE
TZID:Europe/London
BEGIN:DAYLIGHT
TZOFFSETFROM:+0000
TZOFFSETTO:+0100
TZNAME:BST
DTSTART:20240331T010000
END:DAYLIGHT
BEGIN:STANDARD
TZOFFSETFROM:+0100
TZOFFSETTO:+0000
TZNAME:GMT
DTSTART:20241027T010000
END:STANDARD
BEGIN:DAYLIGHT
TZOFFSETFROM:+0000
TZOFFSETTO:+0100
TZNAME:BST
DTSTART:20250330T010000
END:DAYLIGHT
BEGIN:STANDARD
TZOFFSETFROM:+0100
TZOFFSETTO:+0000
TZNAME:GMT
DTSTART:20251026T010000
END:STANDARD
BEGIN:DAYLIGHT
TZOFFSETFROM:+0000
TZOFFSETTO:+0100
TZNAME:BST
DTSTART:20260329T010000
END:DAYLIGHT
BEGIN:STANDARD
TZOFFSETFROM:+0100
TZOFFSETTO:+0000
TZNAME:GMT
DTSTART:20261025T010000
END:STANDARD
END:VTIMEZONE
BEGIN:VEVENT
DTSTART;TZID=Europe/London:20250721T090000
DTEND;TZID=Europe/London:20250828T150000
DTSTAMP:20260419T153256
CREATED:20250721T123214Z
LAST-MODIFIED:20250818T093332Z
UID:22452-1753088400-1756393200@www.hunsletclub.org.uk
SUMMARY:Summer School Holiday Activity Camp WEEK 5
DESCRIPTION:ONLINE BOOKINGS NEED TO BE MADE 24 HOURS IN ADVANCE BUT YOU ARE ABLE TO PAY ON THE DAY FOR AN ADDITIONAL ADMIN FEE\nThe Summer School Holiday Activity Camp will run during the school holidays from Monday 21st July until Thursday 28th August 2025. We have plenty of activities planned to keep young people entertained and safe throughout the holidays. Join us for a week of indoor and outdoor sports\, games\, sports days\, themed days\, disco sessions\, arts and crafts projects\, baking and more. \nA Day at our Summer Holidays Activity Camp\nOn arrival\, parents or carers must sign their child in and provide some emergency contact information before we start the day. The day is then made up of around six different activity sessions for each child. Activities include football\, baking\, dance\, indoor play\, outdoor play\, rugby\, dodgeball\, boxing\, arts\, and crafts and more! This is split up by\, a lunch break and several snack and rest breaks. Finally\, at the end of the day\, all the children will have the opportunity to join in on our Camp Disco. At our Disco\, sweet treats and prizes can be won for the best dancing or party games. All sessions are led by professional coaches\, dancers\, and youth workers. All coaches have also been fully DBS-checked and have years of experience working with young people. \nWhat to bring/wear?\nWe recommend that attendees wear whatever they feel most comfortable in. It is essential that they can easily move around in the clothes they are wearing. Most young people who attend will wear something simple like leggings and a T-shirt or tracksuit bottoms with trainers. Moreover\, some young people will also bring a lunch box for the lunch break\, however\, we do have a tuck shop and a small café that serves food and drinks. Our most expensive meal option is £3.50 and some other hot food options cost just 50p. \nHow to book\nBooking a day at activity camp has never been so easy. Every ticket is now available for purchase below\, you can book a ticket for the whole of the summer holidays and also weekly tickets\, these tickets are discounted. \nFor each day there is a choice of three tickets\, this is because you can also book a half day for either morning or evening if you aren’t able to make a full day. If you have not filled out a membership form before or need to update your details\, please ensure you do this upon completion of your purchase. If you have filled out the form before simply add your child’s name and confirm that they are in year one or above for each ticket. \nAll updates and photos will be posted on our Facebook: https://www.facebook.com/HunsletClub \nBookings can be made through our website. Attendees who turn up on the day without a booking will need to pay on-the-door prices. On the door tickets cost £18 for a full day and £10 per half day\, therefore\, it is best for all involved to book through the website. \nBOOKINGS CANNOT BE TAKEN AFTER 8:00 PM FOR THE FOLLOWING DAY BUT YOU CAN STILL PAY ON THE DOOR ON THE DAY FOR A SMALL ADMIN FEE. \n(If tickets need to be refunded there will be a £1.00 refund and administration fee for each ticket – Refunds can only be given with at least 24 hours’ notice) \nThank you for your patience and understanding\, and we hope the child in your care enjoys our Summer Holidays Activity Camp 2025!
URL:https://www.hunsletclub.org.uk/event/summer-school-holiday-activity-camp-week-5/
LOCATION:The Hunslet Club\, Hillidge Road\, Hunslet\, Leeds\, West Yorkshire\, LS10 1BP\, United Kingdom
ATTACH;FMTTYPE=image/jpeg:https://www.hunsletclub.org.uk/wp-content/uploads/2025/06/for-seniors-1920-x-1080-px-6-1.jpg
ORGANIZER;CN="The Hunslet Club":MAILTO:Admin@hunsletclub.org.uk
END:VEVENT
BEGIN:VEVENT
DTSTART;TZID=Europe/London:20250721T090000
DTEND;TZID=Europe/London:20250828T150000
DTSTAMP:20260419T153256
CREATED:20250721T100447Z
LAST-MODIFIED:20250721T162234Z
UID:22409-1753088400-1756393200@www.hunsletclub.org.uk
SUMMARY:Summer School Holiday Activity Camp WEEK 3
DESCRIPTION:ONLINE BOOKINGS NEED TO BE MADE 24 HOURS IN ADVANCE BUT YOU ARE ABLE TO PAY ON THE DAY FOR AN ADDITIONAL ADMIN FEE\nThe Summer School Holiday Activity Camp will run during the school holidays from Monday 21st July until Thursday 28th August 2025. We have plenty of activities planned to keep young people entertained and safe throughout the holidays. Join us for a week of indoor and outdoor sports\, games\, sports days\, themed days\, disco sessions\, arts and crafts projects\, baking and more. \nA Day at our Summer Holidays Activity Camp\nOn arrival\, parents or carers must sign their child in and provide some emergency contact information before we start the day. The day is then made up of around six different activity sessions for each child. Activities include football\, baking\, dance\, indoor play\, outdoor play\, rugby\, dodgeball\, boxing\, arts\, and crafts and more! This is split up by\, a lunch break and several snack and rest breaks. Finally\, at the end of the day\, all the children will have the opportunity to join in on our Camp Disco. At our Disco\, sweet treats and prizes can be won for the best dancing or party games. All sessions are led by professional coaches\, dancers\, and youth workers. All coaches have also been fully DBS-checked and have years of experience working with young people. \nWhat to bring/wear?\nWe recommend that attendees wear whatever they feel most comfortable in. It is essential that they can easily move around in the clothes they are wearing. Most young people who attend will wear something simple like leggings and a T-shirt or tracksuit bottoms with trainers. Moreover\, some young people will also bring a lunch box for the lunch break\, however\, we do have a tuck shop and a small café that serves food and drinks. Our most expensive meal option is £3.50 and some other hot food options cost just 50p. \nHow to book\nBooking a day at activity camp has never been so easy. Every ticket is now available for purchase below\, you can book a ticket for the whole of the summer holidays and also weekly tickets\, these tickets are discounted. \nFor each day there is a choice of three tickets\, this is because you can also book a half day for either morning or evening if you aren’t able to make a full day. If you have not filled out a membership form before or need to update your details\, please ensure you do this upon completion of your purchase. If you have filled out the form before simply add your child’s name and confirm that they are in year one or above for each ticket. \nAll updates and photos will be posted on our Facebook: https://www.facebook.com/HunsletClub \nBookings can be made through our website. Attendees who turn up on the day without a booking will need to pay on-the-door prices. On the door tickets cost £18 for a full day and £10 per half day\, therefore\, it is best for all involved to book through the website. \nBOOKINGS CANNOT BE TAKEN AFTER 8:00 PM FOR THE FOLLOWING DAY BUT YOU CAN STILL PAY ON THE DOOR ON THE DAY FOR A SMALL ADMIN FEE. \n(If tickets need to be refunded there will be a £1.00 refund and administration fee for each ticket – Refunds can only be given with at least 24 hours’ notice) \nThank you for your patience and understanding\, and we hope the child in your care enjoys our Summer Holidays Activity Camp 2025!
URL:https://www.hunsletclub.org.uk/event/summer-school-holiday-activity-camp-week-3/
LOCATION:The Hunslet Club\, Hillidge Road\, Hunslet\, Leeds\, West Yorkshire\, LS10 1BP\, United Kingdom
ATTACH;FMTTYPE=image/jpeg:https://www.hunsletclub.org.uk/wp-content/uploads/2025/06/for-seniors-1920-x-1080-px-6-1.jpg
ORGANIZER;CN="The Hunslet Club":MAILTO:Admin@hunsletclub.org.uk
END:VEVENT
BEGIN:VEVENT
DTSTART;TZID=Europe/London:20250721T090000
DTEND;TZID=Europe/London:20250828T150000
DTSTAMP:20260419T153256
CREATED:20250624T105014Z
LAST-MODIFIED:20250624T142107Z
UID:22098-1753088400-1756393200@www.hunsletclub.org.uk
SUMMARY:Summer School Holiday Activity Camp WEEK 1
DESCRIPTION:ONLINE BOOKINGS NEED TO BE MADE 24 HOURS IN ADVANCE BUT YOU ARE ABLE TO PAY ON THE DAY FOR AN ADDITIONAL ADMIN FEE\nThe Summer School Holiday Activity Camp will run during the school holidays from Monday 21st July until Thursday 28th August 2025. We have plenty of activities planned to keep young people entertained and safe throughout the holidays. Join us for a week of indoor and outdoor sports\, games\, sports days\, themed days\, disco sessions\, arts and crafts projects\, baking and more. \nA Day at our Summer Holidays Activity Camp\nOn arrival\, parents or carers must sign their child in and provide some emergency contact information before we start the day. The day is then made up of around six different activity sessions for each child. Activities include football\, baking\, dance\, indoor play\, outdoor play\, rugby\, dodgeball\, boxing\, arts\, and crafts and more! This is split up by\, a lunch break and several snack and rest breaks. Finally\, at the end of the day\, all the children will have the opportunity to join in on our Camp Disco. At our Disco\, sweet treats and prizes can be won for the best dancing or party games. All sessions are led by professional coaches\, dancers\, and youth workers. All coaches have also been fully DBS-checked and have years of experience working with young people. \nWhat to bring/wear?\nWe recommend that attendees wear whatever they feel most comfortable in. It is essential that they can easily move around in the clothes they are wearing. Most young people who attend will wear something simple like leggings and a T-shirt or tracksuit bottoms with trainers. Moreover\, some young people will also bring a lunch box for the lunch break\, however\, we do have a tuck shop and a small café that serves food and drinks. Our most expensive meal option is £3.50 and some other hot food options cost just 50p. \nHow to book\nBooking a day at activity camp has never been so easy. Every ticket is now available for purchase below\, you can book a ticket for the whole of the summer holidays and also weekly tickets\, these tickets are discounted. \nFor each day there is a choice of three tickets\, this is because you can also book a half day for either morning or evening if you aren’t able to make a full day. If you have not filled out a membership form before or need to update your details\, please ensure you do this upon completion of your purchase. If you have filled out the form before simply add your child’s name and confirm that they are in year one or above for each ticket. \nAll updates and photos will be posted on our Facebook: https://www.facebook.com/HunsletClub \nBookings can be made through our website. Attendees who turn up on the day without a booking will need to pay on-the-door prices. On the door tickets cost £18 for a full day and £10 per half day\, therefore\, it is best for all involved to book through the website. \nBOOKINGS CANNOT BE TAKEN AFTER 8:00 PM FOR THE FOLLOWING DAY BUT YOU CAN STILL PAY ON THE DOOR ON THE DAY FOR A SMALL ADMIN FEE. \n(If tickets need to be refunded there will be a £1.00 refund and administration fee for each ticket – Refunds can only be given with at least 24 hours’ notice) \nThank you for your patience and understanding\, and we hope the child in your care enjoys our Summer Holidays Activity Camp 2025!
URL:https://www.hunsletclub.org.uk/event/summer-school-holiday-activity-camp-week-1/
LOCATION:The Hunslet Club\, Hillidge Road\, Hunslet\, Leeds\, West Yorkshire\, LS10 1BP\, United Kingdom
ATTACH;FMTTYPE=image/jpeg:https://www.hunsletclub.org.uk/wp-content/uploads/2025/06/for-seniors-1920-x-1080-px-6-1.jpg
ORGANIZER;CN="The Hunslet Club":MAILTO:Admin@hunsletclub.org.uk
END:VEVENT
BEGIN:VEVENT
DTSTART;TZID=Europe/London:20250721T090000
DTEND;TZID=Europe/London:20250828T150000
DTSTAMP:20260419T153256
CREATED:20250616T084147Z
LAST-MODIFIED:20250724T133333Z
UID:21964-1753088400-1756393200@www.hunsletclub.org.uk
SUMMARY:Summer School Holiday Activity Camp discounted bundle tickets
DESCRIPTION:ONLINE BOOKINGS NEED TO BE MADE 24 HOURS IN ADVANCE BUT YOU ARE ABLE TO PAY ON THE DAY FOR AN ADDITIONAL ADMIN FEE\nThe Summer School Holiday Activity Camp will run during the school holidays from Monday 21st July until Thursday 28th August 2025. We have plenty of activities planned to keep young people entertained and safe throughout the holidays. Join us for a week of indoor and outdoor sports\, games\, sports days\, themed days\, disco sessions\, arts and crafts projects\, baking and more. \nA Day at our Summer Holidays Activity Camp\nOn arrival\, parents or carers must sign their child in and provide some emergency contact information before we start the day. The day is then made up of around six different activity sessions for each child. Activities include football\, baking\, dance\, indoor play\, outdoor play\, rugby\, dodgeball\, boxing\, arts\, and crafts and more! This is split up by\, a lunch break and several snack and rest breaks. Finally\, at the end of the day\, all the children will have the opportunity to join in on our Camp Disco. At our Disco\, sweet treats and prizes can be won for the best dancing or party games. All sessions are led by professional coaches\, dancers\, and youth workers. All coaches have also been fully DBS-checked and have years of experience working with young people. \nWhat to bring/wear?\nWe recommend that attendees wear whatever they feel most comfortable in. It is essential that they can easily move around in the clothes they are wearing. Most young people who attend will wear something simple like leggings and a T-shirt or tracksuit bottoms with trainers. Moreover\, some young people will also bring a lunch box for the lunch break\, however\, we do have a tuck shop and a small café that serves food and drinks. Our most expensive meal option is £3.50 and some other hot food options cost just 50p. \nHow to book\nBooking a day at activity camp has never been so easy. Every ticket is now available for purchase below\, you can book a ticket for the whole of the summer holidays and also weekly tickets\, these tickets are discounted. \nFor each day there is a choice of three tickets\, this is because you can also book a half day for either morning or evening if you aren’t able to make a full day. If you have not filled out a membership form before or need to update your details\, please ensure you do this upon completion of your purchase. If you have filled out the form before simply add your child’s name and confirm that they are in year one or above for each ticket. \nAll updates and photos will be posted on our Facebook: https://www.facebook.com/HunsletClub \nBookings can be made through our website. Attendees who turn up on the day without a booking will need to pay on-the-door prices. On the door tickets cost £18 for a full day and £10 per half day\, therefore\, it is best for all involved to book through the website. \nBOOKINGS CANNOT BE TAKEN AFTER 8:00 PM FOR THE FOLLOWING DAY BUT YOU CAN STILL PAY ON THE DOOR ON THE DAY FOR A SMALL ADMIN FEE. \n(If tickets need to be refunded there will be a £1.00 refund and administration fee for each ticket – Refunds can only be given with at least 24 hours’ notice) \nThank you for your patience and understanding\, and we hope the child in your care enjoys our Summer Holidays Activity Camp 2025!
URL:https://www.hunsletclub.org.uk/event/may-school-holiday-activity-camp-copy/
LOCATION:The Hunslet Club\, Hillidge Road\, Hunslet\, Leeds\, West Yorkshire\, LS10 1BP\, United Kingdom
ATTACH;FMTTYPE=image/jpeg:https://www.hunsletclub.org.uk/wp-content/uploads/2025/06/for-seniors-1920-x-1080-px-6-1.jpg
ORGANIZER;CN="The Hunslet Club":MAILTO:Admin@hunsletclub.org.uk
END:VEVENT
BEGIN:VEVENT
DTSTART;TZID=Europe/London:20250721T080000
DTEND;TZID=Europe/London:20250828T150000
DTSTAMP:20260419T153256
CREATED:20250721T110209Z
LAST-MODIFIED:20250721T121420Z
UID:22431-1753084800-1756393200@www.hunsletclub.org.uk
SUMMARY:Summer School Holiday Activity Camp WEEK 4
DESCRIPTION:ONLINE BOOKINGS NEED TO BE MADE 24 HOURS IN ADVANCE BUT YOU ARE ABLE TO PAY ON THE DAY FOR AN ADDITIONAL ADMIN FEE\nThe Summer School Holiday Activity Camp will run during the school holidays from Monday 21st July until Thursday 28th August 2025. We have plenty of activities planned to keep young people entertained and safe throughout the holidays. Join us for a week of indoor and outdoor sports\, games\, sports days\, themed days\, disco sessions\, arts and crafts projects\, baking and more. \nA Day at our Summer Holidays Activity Camp\nOn arrival\, parents or carers must sign their child in and provide some emergency contact information before we start the day. The day is then made up of around six different activity sessions for each child. Activities include football\, baking\, dance\, indoor play\, outdoor play\, rugby\, dodgeball\, boxing\, arts\, and crafts and more! This is split up by\, a lunch break and several snack and rest breaks. Finally\, at the end of the day\, all the children will have the opportunity to join in on our Camp Disco. At our Disco\, sweet treats and prizes can be won for the best dancing or party games. All sessions are led by professional coaches\, dancers\, and youth workers. All coaches have also been fully DBS-checked and have years of experience working with young people. \nWhat to bring/wear?\nWe recommend that attendees wear whatever they feel most comfortable in. It is essential that they can easily move around in the clothes they are wearing. Most young people who attend will wear something simple like leggings and a T-shirt or tracksuit bottoms with trainers. Moreover\, some young people will also bring a lunch box for the lunch break\, however\, we do have a tuck shop and a small café that serves food and drinks. Our most expensive meal option is £3.50 and some other hot food options cost just 50p. \nHow to book\nBooking a day at activity camp has never been so easy. Every ticket is now available for purchase below\, you can book a ticket for the whole of the summer holidays and also weekly tickets\, these tickets are discounted. \nFor each day there is a choice of three tickets\, this is because you can also book a half day for either morning or evening if you aren’t able to make a full day. If you have not filled out a membership form before or need to update your details\, please ensure you do this upon completion of your purchase. If you have filled out the form before simply add your child’s name and confirm that they are in year one or above for each ticket. \nAll updates and photos will be posted on our Facebook: https://www.facebook.com/HunsletClub \nBookings can be made through our website. Attendees who turn up on the day without a booking will need to pay on-the-door prices. On the door tickets cost £18 for a full day and £10 per half day\, therefore\, it is best for all involved to book through the website. \nBOOKINGS CANNOT BE TAKEN AFTER 8:00 PM FOR THE FOLLOWING DAY BUT YOU CAN STILL PAY ON THE DOOR ON THE DAY FOR A SMALL ADMIN FEE. \n(If tickets need to be refunded there will be a £1.00 refund and administration fee for each ticket – Refunds can only be given with at least 24 hours’ notice) \nThank you for your patience and understanding\, and we hope the child in your care enjoys our Summer Holidays Activity Camp 2025!
URL:https://www.hunsletclub.org.uk/event/summer-school-holiday-activity-camp-week-4/
LOCATION:The Hunslet Club\, Hillidge Road\, Hunslet\, Leeds\, West Yorkshire\, LS10 1BP\, United Kingdom
ATTACH;FMTTYPE=image/jpeg:https://www.hunsletclub.org.uk/wp-content/uploads/2025/06/for-seniors-1920-x-1080-px-6-1.jpg
ORGANIZER;CN="The Hunslet Club":MAILTO:Admin@hunsletclub.org.uk
END:VEVENT
BEGIN:VEVENT
DTSTART;VALUE=DATE:20250721
DTEND;VALUE=DATE:20250829
DTSTAMP:20260419T153256
CREATED:20250710T101058Z
LAST-MODIFIED:20250721T163312Z
UID:22185-1753056000-1756425599@www.hunsletclub.org.uk
SUMMARY:Summer School Holiday Activity Camp WEEK 2
DESCRIPTION:ONLINE BOOKINGS NEED TO BE MADE 24 HOURS IN ADVANCE BUT YOU ARE ABLE TO PAY ON THE DAY FOR AN ADDITIONAL ADMIN FEE\nThe Summer School Holiday Activity Camp will run during the school holidays from Monday 21st July until Thursday 28th August 2025. We have plenty of activities planned to keep young people entertained and safe throughout the holidays. Join us for a week of indoor and outdoor sports\, games\, sports days\, themed days\, disco sessions\, arts and crafts projects\, baking and more. \nA Day at our Summer Holidays Activity Camp\nOn arrival\, parents or carers must sign their child in and provide some emergency contact information before we start the day. The day is then made up of around six different activity sessions for each child. Activities include football\, baking\, dance\, indoor play\, outdoor play\, rugby\, dodgeball\, boxing\, arts\, and crafts and more! This is split up by\, a lunch break and several snack and rest breaks. Finally\, at the end of the day\, all the children will have the opportunity to join in on our Camp Disco. At our Disco\, sweet treats and prizes can be won for the best dancing or party games. All sessions are led by professional coaches\, dancers\, and youth workers. All coaches have also been fully DBS-checked and have years of experience working with young people. \nWhat to bring/wear?\nWe recommend that attendees wear whatever they feel most comfortable in. It is essential that they can easily move around in the clothes they are wearing. Most young people who attend will wear something simple like leggings and a T-shirt or tracksuit bottoms with trainers. Moreover\, some young people will also bring a lunch box for the lunch break\, however\, we do have a tuck shop and a small café that serves food and drinks. Our most expensive meal option is £3.50 and some other hot food options cost just 50p. \nHow to book\nBooking a day at activity camp has never been so easy. Every ticket is now available for purchase below\, you can book a ticket for the whole of the summer holidays and also weekly tickets\, these tickets are discounted. \nFor each day there is a choice of three tickets\, this is because you can also book a half day for either morning or evening if you aren’t able to make a full day. If you have not filled out a membership form before or need to update your details\, please ensure you do this upon completion of your purchase. If you have filled out the form before simply add your child’s name and confirm that they are in year one or above for each ticket. \nAll updates and photos will be posted on our Facebook: https://www.facebook.com/HunsletClub \nBookings can be made through our website. Attendees who turn up on the day without a booking will need to pay on-the-door prices. On the door tickets cost £18 for a full day and £10 per half day\, therefore\, it is best for all involved to book through the website. \nBOOKINGS CANNOT BE TAKEN AFTER 8:00 PM FOR THE FOLLOWING DAY BUT YOU CAN STILL PAY ON THE DOOR ON THE DAY FOR A SMALL ADMIN FEE. \n(If tickets need to be refunded there will be a £1.00 refund and administration fee for each ticket – Refunds can only be given with at least 24 hours’ notice) \nThank you for your patience and understanding\, and we hope the child in your care enjoys our Summer Holidays Activity Camp 2025!
URL:https://www.hunsletclub.org.uk/event/summer-school-holiday-activity-camp-weektwo/
LOCATION:The Hunslet Club\, Hillidge Road\, Hunslet\, Leeds\, West Yorkshire\, LS10 1BP\, United Kingdom
ATTACH;FMTTYPE=image/jpeg:https://www.hunsletclub.org.uk/wp-content/uploads/2025/06/for-seniors-1920-x-1080-px-6-1.jpg
ORGANIZER;CN="The Hunslet Club":MAILTO:Admin@hunsletclub.org.uk
END:VEVENT
END:VCALENDAR